BEGIN:VCALENDAR
VERSION:2.0
PRODID:-//Maingot Club Photo - ECPv5.2.1.1//NONSGML v1.0//EN
CALSCALE:GREGORIAN
METHOD:PUBLISH
X-WR-CALNAME:Maingot Club Photo
X-ORIGINAL-URL:https://www.clubphotocugand.fr
X-WR-CALDESC:Évènements pour Maingot Club Photo
BEGIN:VTIMEZONE
TZID:Europe/Paris
BEGIN:DAYLIGHT
TZOFFSETFROM:+0100
TZOFFSETTO:+0200
TZNAME:CEST
DTSTART:20200329T010000
END:DAYLIGHT
BEGIN:STANDARD
TZOFFSETFROM:+0200
TZOFFSETTO:+0100
TZNAME:CET
DTSTART:20201025T010000
END:STANDARD
END:VTIMEZONE
BEGIN:VEVENT
DTSTART;VALUE=DATE:20200613
DTEND;VALUE=DATE:20200615
DTSTAMP:20260424T144958
CREATED:20191030T181346Z
LAST-MODIFIED:20200515T083803Z
UID:1434-1592006400-1592179199@www.clubphotocugand.fr
SUMMARY:Art dans les Jardins - Cugand - annulé
DESCRIPTION:
URL:https://www.clubphotocugand.fr/event/art-dans-les-jardins-cugand/
LOCATION:Cugand
CATEGORIES:Club,Sortie prise de vue
END:VEVENT
END:VCALENDAR