BEGIN:VCALENDAR
VERSION:2.0
PRODID:-//Maingot Club Photo - ECPv5.2.1.1//NONSGML v1.0//EN
CALSCALE:GREGORIAN
METHOD:PUBLISH
X-WR-CALNAME:Maingot Club Photo
X-ORIGINAL-URL:https://www.clubphotocugand.fr
X-WR-CALDESC:Évènements pour Maingot Club Photo
BEGIN:VTIMEZONE
TZID:Europe/Paris
BEGIN:DAYLIGHT
TZOFFSETFROM:+0100
TZOFFSETTO:+0200
TZNAME:CEST
DTSTART:20190331T010000
END:DAYLIGHT
BEGIN:STANDARD
TZOFFSETFROM:+0200
TZOFFSETTO:+0100
TZNAME:CET
DTSTART:20191027T010000
END:STANDARD
END:VTIMEZONE
BEGIN:VEVENT
DTSTART;TZID=Europe/Paris:20190625T200000
DTEND;TZID=Europe/Paris:20190625T223000
DTSTAMP:20260422T162504
CREATED:20190527T171739Z
LAST-MODIFIED:20190527T171739Z
UID:1121-1561492800-1561501800@www.clubphotocugand.fr
SUMMARY:Atelier 25 juin : critiques photos
DESCRIPTION:Atelier sans thème sauf si vous le souhaitez.\nVenez avec vos photos à partager et vos bonnes idées !
URL:https://www.clubphotocugand.fr/event/atelier-25-juin-critiques-photos/
CATEGORIES:Atelier
END:VEVENT
END:VCALENDAR