BEGIN:VCALENDAR
VERSION:2.0
PRODID:-//Maingot Club Photo - ECPv5.2.1.1//NONSGML v1.0//EN
CALSCALE:GREGORIAN
METHOD:PUBLISH
X-WR-CALNAME:Maingot Club Photo
X-ORIGINAL-URL:https://www.clubphotocugand.fr
X-WR-CALDESC:Évènements pour Maingot Club Photo
BEGIN:VTIMEZONE
TZID:Europe/Paris
BEGIN:DAYLIGHT
TZOFFSETFROM:+0100
TZOFFSETTO:+0200
TZNAME:CEST
DTSTART:20200329T010000
END:DAYLIGHT
BEGIN:STANDARD
TZOFFSETFROM:+0200
TZOFFSETTO:+0100
TZNAME:CET
DTSTART:20201025T010000
END:STANDARD
END:VTIMEZONE
BEGIN:VEVENT
DTSTART;TZID=Europe/Paris:20200331T203000
DTEND;TZID=Europe/Paris:20200331T223000
DTSTAMP:20260426T044537
CREATED:20200308T172644Z
LAST-MODIFIED:20200308T172644Z
UID:2671-1585686600-1585693800@www.clubphotocugand.fr
SUMMARY:Atelier : On visite notre propre expo
DESCRIPTION:Rendez-vous ce soir à la salle du Mingot. \nVisite commentée de l’expo par les auteurs des photo.
URL:https://www.clubphotocugand.fr/event/atelier-on-visite-notre-propre-expo/
CATEGORIES:Atelier
END:VEVENT
END:VCALENDAR