BEGIN:VCALENDAR
VERSION:2.0
PRODID:-//Maingot Club Photo - ECPv5.2.1.1//NONSGML v1.0//EN
CALSCALE:GREGORIAN
METHOD:PUBLISH
X-WR-CALNAME:Maingot Club Photo
X-ORIGINAL-URL:https://www.clubphotocugand.fr
X-WR-CALDESC:Évènements pour Maingot Club Photo
BEGIN:VTIMEZONE
TZID:Europe/Paris
BEGIN:DAYLIGHT
TZOFFSETFROM:+0100
TZOFFSETTO:+0200
TZNAME:CEST
DTSTART:20240331T010000
END:DAYLIGHT
BEGIN:STANDARD
TZOFFSETFROM:+0200
TZOFFSETTO:+0100
TZNAME:CET
DTSTART:20241027T010000
END:STANDARD
END:VTIMEZONE
BEGIN:VEVENT
DTSTART;TZID=Europe/Paris:20241002T100000
DTEND;TZID=Europe/Paris:20241002T120000
DTSTAMP:20260422T055149
CREATED:20240926T140210Z
LAST-MODIFIED:20240928T182513Z
UID:17381-1727863200-1727870400@www.clubphotocugand.fr
SUMMARY:Démontage expos extérieures : Moulin à Foulon et ECD
DESCRIPTION:
URL:https://www.clubphotocugand.fr/event/demontage-expos-exterieures-moulin-a-foulon-et-ecd/
LOCATION:Moulin à Foulon
CATEGORIES:Club,Exposition CPC
END:VEVENT
END:VCALENDAR