BEGIN:VCALENDAR
VERSION:2.0
PRODID:-//Maingot Club Photo - ECPv5.2.1.1//NONSGML v1.0//EN
CALSCALE:GREGORIAN
METHOD:PUBLISH
X-WR-CALNAME:Maingot Club Photo
X-ORIGINAL-URL:https://www.clubphotocugand.fr
X-WR-CALDESC:Évènements pour Maingot Club Photo
BEGIN:VTIMEZONE
TZID:Europe/Paris
BEGIN:DAYLIGHT
TZOFFSETFROM:+0100
TZOFFSETTO:+0200
TZNAME:CEST
DTSTART:20160327T010000
END:DAYLIGHT
BEGIN:STANDARD
TZOFFSETFROM:+0200
TZOFFSETTO:+0100
TZNAME:CET
DTSTART:20161030T010000
END:STANDARD
END:VTIMEZONE
BEGIN:VEVENT
DTSTART;TZID=Europe/Paris:20160318T100000
DTEND;TZID=Europe/Paris:20160320T180000
DTSTAMP:20260425T184914
CREATED:20160218T150348Z
LAST-MODIFIED:20160218T170245Z
UID:50-1458295200-1458496800@www.clubphotocugand.fr
SUMMARY:Expo Clisson insolite
DESCRIPTION:Exposition annuelle dans la cave du viticulteur Laurent Perraud à La Vinçonnière.
URL:https://www.clubphotocugand.fr/event/photos-insolites-de-clisson/
LOCATION:Domaine de la Vinçonnière\, Domaine de la Vinconnière - Laurent Perraud - Le Perthuis Fouques\, Clisson\, 44190\, France
END:VEVENT
END:VCALENDAR