BEGIN:VCALENDAR
VERSION:2.0
PRODID:-//Maingot Club Photo - ECPv5.2.1.1//NONSGML v1.0//EN
CALSCALE:GREGORIAN
METHOD:PUBLISH
X-WR-CALNAME:Maingot Club Photo
X-ORIGINAL-URL:https://www.clubphotocugand.fr
X-WR-CALDESC:Évènements pour Maingot Club Photo
BEGIN:VTIMEZONE
TZID:Europe/Paris
BEGIN:DAYLIGHT
TZOFFSETFROM:+0100
TZOFFSETTO:+0200
TZNAME:CEST
DTSTART:20160327T010000
END:DAYLIGHT
BEGIN:STANDARD
TZOFFSETFROM:+0200
TZOFFSETTO:+0100
TZNAME:CET
DTSTART:20161030T010000
END:STANDARD
END:VTIMEZONE
BEGIN:VEVENT
DTSTART;TZID=Europe/Paris:20160514T100000
DTEND;TZID=Europe/Paris:20160522T180000
DTSTAMP:20260425T173005
CREATED:20160218T170143Z
LAST-MODIFIED:20160507T121928Z
UID:58-1463220000-1463940000@www.clubphotocugand.fr
SUMMARY:Expo Reflets
DESCRIPTION:Comme tous les ans en mai\, nous vous présentons une exposition du club photo de Cugand. \nLe thème de l’exposition est reflets. Cette année\, plusieurs nouveautés\, la première\, nous exposerons à côté d’un photographe professionnel\, Claude Gaspari. \nLa seconde nouveauté est le lieu d’exposition. Pour cette exposition\, nous accrocherons nos prises de vues dans la salle du Mingot à Cugand à seulement 2 pas du centre bourg. \nL’exposition sera ouverte au public les weekend et jour férié de 10h à 12h et de 15h à 19h. En semaine de 15h à 19h du 14 au 22 mai 2016. \nNous espérons vous voir très nombreux !
URL:https://www.clubphotocugand.fr/event/reflet/
LOCATION:Salle du Mingot\, Rue du Président Auguste Durand\, Cugand\, 85610\, France
END:VEVENT
END:VCALENDAR