BEGIN:VCALENDAR
VERSION:2.0
PRODID:-//Maingot Club Photo - ECPv5.2.1.1//NONSGML v1.0//EN
CALSCALE:GREGORIAN
METHOD:PUBLISH
X-WR-CALNAME:Maingot Club Photo
X-ORIGINAL-URL:https://www.clubphotocugand.fr
X-WR-CALDESC:Évènements pour Maingot Club Photo
BEGIN:VTIMEZONE
TZID:Europe/Paris
BEGIN:DAYLIGHT
TZOFFSETFROM:+0100
TZOFFSETTO:+0200
TZNAME:CEST
DTSTART:20210328T010000
END:DAYLIGHT
BEGIN:STANDARD
TZOFFSETFROM:+0200
TZOFFSETTO:+0100
TZNAME:CET
DTSTART:20211031T010000
END:STANDARD
END:VTIMEZONE
BEGIN:VEVENT
DTSTART;TZID=Europe/Paris:20211016T080000
DTEND;TZID=Europe/Paris:20211016T190000
DTSTAMP:20260419T203141
CREATED:20210924T071627Z
LAST-MODIFIED:20210924T071627Z
UID:10216-1634371200-1634410800@www.clubphotocugand.fr
SUMMARY:Sortie Photo à Lizio
DESCRIPTION:Sortie avec le Club Photo ami de Ploërmel pour découvrir « l’Univers du Poète Ferrailleur » ainsi que l’insectarium de Lizio.
URL:https://www.clubphotocugand.fr/event/sortie-photo-a-lizio/
LOCATION:Lizio\, au sud ouest de Rennes
CATEGORIES:Club,Sortie prise de vue
END:VEVENT
END:VCALENDAR