BEGIN:VCALENDAR
VERSION:2.0
PRODID:-//Maingot Club Photo - ECPv5.2.1.1//NONSGML v1.0//EN
CALSCALE:GREGORIAN
METHOD:PUBLISH
X-WR-CALNAME:Maingot Club Photo
X-ORIGINAL-URL:https://www.clubphotocugand.fr
X-WR-CALDESC:Évènements pour Maingot Club Photo
BEGIN:VTIMEZONE
TZID:Europe/Paris
BEGIN:DAYLIGHT
TZOFFSETFROM:+0100
TZOFFSETTO:+0200
TZNAME:CEST
DTSTART:20230326T010000
END:DAYLIGHT
BEGIN:STANDARD
TZOFFSETFROM:+0200
TZOFFSETTO:+0100
TZNAME:CET
DTSTART:20231029T010000
END:STANDARD
END:VTIMEZONE
BEGIN:VEVENT
DTSTART;TZID=Europe/Paris:20231007T070000
DTEND;TZID=Europe/Paris:20231007T123000
DTSTAMP:20260420T055548
CREATED:20230908T142738Z
LAST-MODIFIED:20230908T142738Z
UID:14514-1696662000-1696681800@www.clubphotocugand.fr
SUMMARY:Sortie photo animalier 2 - Parc de la Brosse\, Chauché
DESCRIPTION:
URL:https://www.clubphotocugand.fr/event/sortie-photo-animalier-2-parc-de-la-brosse-chauche/
LOCATION:Parc de la Brosse\, Chauché
CATEGORIES:Club,Sortie prise de vue
END:VEVENT
END:VCALENDAR