BEGIN:VCALENDAR
VERSION:2.0
PRODID:-//Maingot Club Photo - ECPv5.2.1.1//NONSGML v1.0//EN
CALSCALE:GREGORIAN
METHOD:PUBLISH
X-WR-CALNAME:Maingot Club Photo
X-ORIGINAL-URL:https://www.clubphotocugand.fr
X-WR-CALDESC:Évènements pour Maingot Club Photo
BEGIN:VTIMEZONE
TZID:Europe/Paris
BEGIN:DAYLIGHT
TZOFFSETFROM:+0100
TZOFFSETTO:+0200
TZNAME:CEST
DTSTART:20240331T010000
END:DAYLIGHT
BEGIN:STANDARD
TZOFFSETFROM:+0200
TZOFFSETTO:+0100
TZNAME:CET
DTSTART:20241027T010000
END:STANDARD
END:VTIMEZONE
BEGIN:VEVENT
DTSTART;TZID=Europe/Paris:20241103T080000
DTEND;TZID=Europe/Paris:20241103T123000
DTSTAMP:20260420T063957
CREATED:20241030T162041Z
LAST-MODIFIED:20241030T162041Z
UID:17822-1730620800-1730637000@www.clubphotocugand.fr
SUMMARY:Sortie Photo aux champignons avec le Club Mycologique de l'Ouest
DESCRIPTION:Sortie organisée par notre ami Dominique Caillaud. \nVoici le Framadate – merci de vous y inscrire ou d’indiquer votre indisponibilité..;)
URL:https://www.clubphotocugand.fr/event/sortie-photo-aux-champignons-avec-le-club-mycologique-de-louest/
LOCATION:Bois Vert aux Herbiers
CATEGORIES:Club,Sortie prise de vue
END:VEVENT
END:VCALENDAR