BEGIN:VCALENDAR
VERSION:2.0
PRODID:-//Maingot Club Photo - ECPv5.2.1.1//NONSGML v1.0//EN
CALSCALE:GREGORIAN
METHOD:PUBLISH
X-WR-CALNAME:Maingot Club Photo
X-ORIGINAL-URL:https://www.clubphotocugand.fr
X-WR-CALDESC:Évènements pour Maingot Club Photo
BEGIN:VTIMEZONE
TZID:Europe/Paris
BEGIN:DAYLIGHT
TZOFFSETFROM:+0100
TZOFFSETTO:+0200
TZNAME:CEST
DTSTART:20230326T010000
END:DAYLIGHT
BEGIN:STANDARD
TZOFFSETFROM:+0200
TZOFFSETTO:+0100
TZNAME:CET
DTSTART:20231029T010000
END:STANDARD
END:VTIMEZONE
BEGIN:VEVENT
DTSTART;TZID=Europe/Paris:20230610T070000
DTEND;TZID=Europe/Paris:20230610T093000
DTSTAMP:20260424T110630
CREATED:20230608T125831Z
LAST-MODIFIED:20230608T125831Z
UID:14026-1686380400-1686389400@www.clubphotocugand.fr
SUMMARY:Sortie Photo "Macro" avec Christian et Jacques
DESCRIPTION:Lieu de rencontre = Etang du Beau Soleil à la Bruffière à partir de 7h \nIl va encore faire chaud et l’idée est d’y arriver avant que les insectes s’envolent …
URL:https://www.clubphotocugand.fr/event/sortie-photo-macro-avec-christian-et-jacques/
LOCATION:Etang du Beau Soleil
CATEGORIES:Club,Sortie prise de vue
END:VEVENT
END:VCALENDAR