BEGIN:VCALENDAR
VERSION:2.0
PRODID:-//Maingot Club Photo - ECPv5.2.1.1//NONSGML v1.0//EN
CALSCALE:GREGORIAN
METHOD:PUBLISH
X-WR-CALNAME:Maingot Club Photo
X-ORIGINAL-URL:https://www.clubphotocugand.fr
X-WR-CALDESC:Évènements pour Maingot Club Photo
BEGIN:VTIMEZONE
TZID:Europe/Paris
BEGIN:DAYLIGHT
TZOFFSETFROM:+0100
TZOFFSETTO:+0200
TZNAME:CEST
DTSTART:20200329T010000
END:DAYLIGHT
BEGIN:STANDARD
TZOFFSETFROM:+0200
TZOFFSETTO:+0100
TZNAME:CET
DTSTART:20201025T010000
END:STANDARD
END:VTIMEZONE
BEGIN:VEVENT
DTSTART;TZID=Europe/Paris:20200701T080000
DTEND;TZID=Europe/Paris:20200920T170000
DTSTAMP:20260422T075127
CREATED:20200702T131137Z
LAST-MODIFIED:20200702T131137Z
UID:4815-1593590400-1600621200@www.clubphotocugand.fr
SUMMARY:Les abbayes vues du ciel
DESCRIPTION:Yann Arthus Bertrand \nPrieuré du Grammont\, St Prouant\, Vendée
URL:https://www.clubphotocugand.fr/event/les-abbayes-vues-du-ciel/
CATEGORIES:Exposition,Extérieur
END:VEVENT
BEGIN:VEVENT
DTSTART;TZID=Europe/Paris:20200919T090000
DTEND;TZID=Europe/Paris:20200919T160000
DTSTAMP:20260422T075127
CREATED:20200707T075653Z
LAST-MODIFIED:20200707T075653Z
UID:4880-1600506000-1600531200@www.clubphotocugand.fr
SUMMARY:"Rallye photo" surprise\, pour fêter la rentrée !
DESCRIPTION:
URL:https://www.clubphotocugand.fr/event/rallye-photo-surprise-pour-feter-la-rentree/
LOCATION:Autour de Cugand
CATEGORIES:Club,Sortie prise de vue
END:VEVENT
END:VCALENDAR